BEGIN:VCALENDAR
VERSION:2.0
PRODID:-//Outdoor Adventure - ECPv6.9.0//NONSGML v1.0//EN
CALSCALE:GREGORIAN
METHOD:PUBLISH
X-WR-CALNAME:Outdoor Adventure
X-ORIGINAL-URL:https://pmosocsargen.com
X-WR-CALDESC:Events for Outdoor Adventure
REFRESH-INTERVAL;VALUE=DURATION:PT1H
X-Robots-Tag:noindex
X-PUBLISHED-TTL:PT1H
BEGIN:VTIMEZONE
TZID:UTC
BEGIN:STANDARD
TZOFFSETFROM:+0000
TZOFFSETTO:+0000
TZNAME:UTC
DTSTART:20240101T000000
END:STANDARD
END:VTIMEZONE
BEGIN:VEVENT
DTSTART;TZID=UTC:20240122T080000
DTEND;TZID=UTC:20240126T170000
DTSTAMP:20260423T005035
CREATED:20240112T072403Z
LAST-MODIFIED:20240112T072428Z
UID:6564-1705910400-1706288400@pmosocsargen.com
SUMMARY:1st Quarter Safety and Environmental Inspection of Baseport Facilities
DESCRIPTION:Compliance to Safety\, health and environmental standards.
URL:https://pmosocsargen.com/event/1st-quarter-safety-and-environmental-inspection-of-baseport-facilities/
CATEGORIES:Event
END:VEVENT
END:VCALENDAR